BEGIN:VCALENDAR
VERSION:2.0
PRODID:-//wp-events-plugin.com//7.2.3.1//EN
BEGIN:VEVENT
UID:8@doglistenerconsult.com
DTSTART:20260524T143000Z
DTEND:20260524T160000Z
DTSTAMP:20260425T034752Z
URL:https://www.doglistenerconsult.com/events/class-schedule-2-bishan-park
 -2/
SUMMARY:Basic Obedience Class Start - Bishan Park
DESCRIPTION:6 wk Basic Obedience class suitable for all puppies and dogs
LOCATION:Bishan Park II\, Ang Mo Kio Ave 1\, Singapore\, Singapore\, 569981
 \, Singapore
GEO:1.3560902;103.8556552
X-APPLE-STRUCTURED-LOCATION;VALUE=URI;X-ADDRESS=Ang Mo Kio Ave 1\, Singapor
 e\, Singapore\, 569981\, Singapore;X-APPLE-RADIUS=100;X-TITLE=Bishan Park 
 II:geo:1.3560902,103.8556552
END:VEVENT
END:VCALENDAR